BEGIN:VCALENDAR
VERSION:2.0
PRODID:Spatie calendar-links
BEGIN:VEVENT
UID:09520fe6982a4cbb1f7b09f5482091db
SUMMARY:PoTS Kanatan Day
DTSTAMP;TZID=America/Vancouver:20220701T120000
DTSTART;TZID=America/Vancouver:20220701T120000
DTEND;TZID=America/Vancouver:20220701T160000
LOCATION:4390 Kehler Street\, Chilliwack\, British columbia\, Canada
END:VEVENT
END:VCALENDAR