BEGIN:VCALENDAR
VERSION:2.0
PRODID:Spatie calendar-links
BEGIN:VEVENT
UID:b5d5c697b708a607663aa076715ee3c9
SUMMARY:Launch & Fundraiser
DTSTAMP;TZID=America/Vancouver:20220704T000000
DTSTART;TZID=America/Vancouver:20220704T000000
DTEND;TZID=America/Vancouver:20220704T000000
END:VEVENT
END:VCALENDAR