BEGIN:VCALENDAR
VERSION:2.0
PRODID:Spatie calendar-links
BEGIN:VEVENT
UID:7c1f86aef6abb30e85be2ca1863dce0e
SUMMARY:Sudbury - WORLDWIDE RALLY MARCH 20TH\, 2021
DTSTAMP;TZID=America/Toronto:20210320T120000
DTSTART;TZID=America/Toronto:20210320T120000
DTEND;TZID=America/Toronto:20210320T150000
LOCATION:200 Brady Street\, Greater Sudbury\, ON\, Canada
END:VEVENT
END:VCALENDAR