BEGIN:VCALENDAR
VERSION:2.0
PRODID:Spatie calendar-links
BEGIN:VEVENT
UID:6d934aa551d4e7b8019c63dd4cadfce1
SUMMARY:Stand United Nationwide - Phase 2 - Accountability
DTSTAMP;TZID=America/Los_Angeles:20220722T130000
DTSTART;TZID=America/Los_Angeles:20220722T130000
DTEND;TZID=America/Los_Angeles:20220722T160000
LOCATION:669 Howe St\, Vancouver\, British Columbia\, Canada
END:VEVENT
END:VCALENDAR