BEGIN:VCALENDAR
VERSION:2.0
PRODID:Spatie calendar-links
BEGIN:VEVENT
UID:25b4084dff4939c9fc8dd2b2445a48f8
SUMMARY:Stand United Nationwide - Phase 2 - Accountability - Edmonton
DTSTAMP;TZID=America/Los_Angeles:20220722T130000
DTSTART;TZID=America/Los_Angeles:20220722T130000
DTEND;TZID=America/Los_Angeles:20220722T160000
LOCATION:2700 10020 100 Street NW\, Edmonton\, Alberta\, Canada
END:VEVENT
END:VCALENDAR