BEGIN:VCALENDAR
VERSION:2.0
PRODID:Spatie calendar-links
BEGIN:VEVENT
UID:d414b82bc1f9a8707a33813f3bd4161d
SUMMARY:Stand United Nationwide - Phase 2 - Accountability - Okotoks\, AB
DTSTAMP;TZID=America/Los_Angeles:20220722T120000
DTSTART;TZID=America/Los_Angeles:20220722T120000
DTEND;TZID=America/Los_Angeles:20220722T140000
LOCATION:11 Cimarron Common\, Okotoks\, Alberta\, Canada
END:VEVENT
END:VCALENDAR