BEGIN:VCALENDAR
VERSION:2.0
PRODID:Spatie calendar-links
BEGIN:VEVENT
UID:c01ae975ca9b879d353ed261ea59346a
SUMMARY:Stand United Nationwide - Phase 2 - Accountability - Montreal
DTSTAMP;TZID=America/Los_Angeles:20220722T130000
DTSTART;TZID=America/Los_Angeles:20220722T130000
DTEND;TZID=America/Los_Angeles:20220722T160000
LOCATION:1250 Rene-Levesque Boulevard West\, Montreal\, Quebec\, Canada
END:VEVENT
END:VCALENDAR