BEGIN:VCALENDAR
VERSION:2.0
PRODID:Spatie calendar-links
BEGIN:VEVENT
UID:b6b8075cd256b447a48b4b1057532f15
SUMMARY:Stand United Nationwide - Phase 2 - Accountability - Ottawa
DTSTAMP;TZID=America/Los_Angeles:20220722T130000
DTSTART;TZID=America/Los_Angeles:20220722T130000
DTEND;TZID=America/Los_Angeles:20220722T150000
LOCATION:774 Echo Drive\, Ottawa\, Ontario\, Canada
END:VEVENT
END:VCALENDAR