BEGIN:VCALENDAR
VERSION:2.0
PRODID:Spatie calendar-links
BEGIN:VEVENT
UID:f08830be5e7824ee10cee472b28372ab
SUMMARY:Stand United Nationwide - Phase 2 - Accountability - St. Johns\, NL
DTSTAMP;TZID=America/Los_Angeles:20220722T130000
DTSTART;TZID=America/Los_Angeles:20220722T130000
DTEND;TZID=America/Los_Angeles:20220722T160000
LOCATION:W100 120 Torbay Road\, Saint John's\, Newfoundland\, Canada
END:VEVENT
END:VCALENDAR