BEGIN:VCALENDAR
VERSION:2.0
PRODID:Spatie calendar-links
BEGIN:VEVENT
UID:89ba1614de3ffa386a844ad7a15a721d
SUMMARY:Stand United Nationwide - Phase 2 - Accountability - Toronto
DTSTAMP;TZID=America/Los_Angeles:20220722T120000
DTSTART;TZID=America/Los_Angeles:20220722T120000
DTEND;TZID=America/Los_Angeles:20220722T150000
LOCATION:80 College Street\, Toronto\, Ontario\, Canada
END:VEVENT
END:VCALENDAR