BEGIN:VCALENDAR
VERSION:2.0
PRODID:Spatie calendar-links
BEGIN:VEVENT
UID:007ec8556538d072be153380d6dca6a5
SUMMARY:Stand United Nationwide - Phase 2 - Accountability - Winnipeg
DTSTAMP;TZID=America/Los_Angeles:20220722T130000
DTSTART;TZID=America/Los_Angeles:20220722T130000
DTEND;TZID=America/Los_Angeles:20220722T160000
LOCATION:1661 Portage Avenue\, Winnipeg\, Manitoba\, Canada
END:VEVENT
END:VCALENDAR