BEGIN:VCALENDAR
VERSION:2.0
PRODID:Spatie calendar-links
BEGIN:VEVENT
UID:bcc7f144518c0acf467b1d3bde9c1c9d
SUMMARY:Victoria - WORLDWIDE RALLY MARCH 20TH\, 2021
DTSTAMP;TZID=America/Vancouver:20210320T120000
DTSTART;TZID=America/Vancouver:20210320T120000
DTEND;TZID=America/Vancouver:20210320T160000
LOCATION:1 Centennial Square\, Victoria\, BC\, Canada
END:VEVENT
END:VCALENDAR