BEGIN:VCALENDAR
VERSION:2.0
PRODID:Spatie calendar-links
BEGIN:VEVENT
UID:317e6136e494f6f5136278b7766323b0
SUMMARY:Summer Singles Mixer @ The Lucky Penny
DTSTAMP;TZID=America/Los_Angeles:20220716T190000
DTSTART;TZID=America/Los_Angeles:20220716T190000
DTEND;TZID=America/Los_Angeles:20220717T000000
LOCATION:433 West Pender\, Vancouver\, BC\, Canada
END:VEVENT
END:VCALENDAR