BEGIN:VCALENDAR
VERSION:2.0
PRODID:Spatie calendar-links
BEGIN:VEVENT
UID:380d059cb7f603d31c75189f1e72641f
SUMMARY:"BETRAYED" Canadian Book Launch party hosted by Bob Wiles
DTSTAMP;TZID=America/Los_Angeles:20220722T170000
DTSTART;TZID=America/Los_Angeles:20220722T170000
DTEND;TZID=America/Los_Angeles:20220722T230000
LOCATION:1943 Cornwall Ave\, Vancouver\, British Columbia\, Canada
END:VEVENT
END:VCALENDAR