BEGIN:VCALENDAR
VERSION:2.0
PRODID:Spatie calendar-links
BEGIN:VEVENT
UID:352cce13db3d74c217a491f174b2970c
SUMMARY:We Stand United With The Farmers
DTSTAMP;TZID=America/Los_Angeles:20220723T130000
DTSTART;TZID=America/Los_Angeles:20220723T130000
DTEND;TZID=America/Los_Angeles:20220723T160000
LOCATION:595 Burrard St\, Vancouver\, British Columbia\, Canada
END:VEVENT
END:VCALENDAR