BEGIN:VCALENDAR
VERSION:2.0
PRODID:Spatie calendar-links
BEGIN:VEVENT
UID:7c30f636985203e899750e0b2ffbf505
SUMMARY:March of Truth
DTSTAMP;TZID=America/Los_Angeles:20220731T120000
DTSTART;TZID=America/Los_Angeles:20220731T120000
DTEND;TZID=America/Los_Angeles:20220731T150000
LOCATION:Vancouver\, BC\, Canada
END:VEVENT
END:VCALENDAR