BEGIN:VCALENDAR
VERSION:2.0
PRODID:Spatie calendar-links
BEGIN:VEVENT
UID:dd1fac57f6ed4dbd23e453f6b57e7e54
SUMMARY:"THE DIMMING"  A Documentary Film Screening
DTSTAMP;TZID=America/Los_Angeles:20220730T140000
DTSTART;TZID=America/Los_Angeles:20220730T140000
DTEND;TZID=America/Los_Angeles:20220730T170000
LOCATION:1600 Delta Avenue\, Burnaby\, British Columbia\, Canada
END:VEVENT
END:VCALENDAR