BEGIN:VCALENDAR
VERSION:2.0
PRODID:Spatie calendar-links
BEGIN:VEVENT
UID:a71fa7144612921c9078f393befca77e
SUMMARY:Informed Consent Citizens Inquiry
DTSTAMP;TZID=America/Los_Angeles:20220820T130000
DTSTART;TZID=America/Los_Angeles:20220820T130000
DTEND;TZID=America/Los_Angeles:20220820T160000
LOCATION:14200 Green Timbers Way\, Surrey\, British Columbia\, Canada
END:VEVENT
END:VCALENDAR