BEGIN:VCALENDAR
VERSION:2.0
PRODID:Spatie calendar-links
BEGIN:VEVENT
UID:d8e12b87d38b9fad834de3e3194cc0b4
SUMMARY:Candlelight Vigil
DTSTAMP;TZID=America/Los_Angeles:20220806T193000
DTSTART;TZID=America/Los_Angeles:20220806T193000
DTEND;TZID=America/Los_Angeles:20220806T213000
LOCATION:750 Hornby Street\, Vancouver\, British Columbia\, Canada
END:VEVENT
END:VCALENDAR