BEGIN:VCALENDAR
VERSION:2.0
PRODID:Spatie calendar-links
BEGIN:VEVENT
UID:73f80d2e2d26b0bea8699484bb3db0f8
SUMMARY:Kip Warner - CSASPP
DTSTAMP;TZID=America/Los_Angeles:20220809T183000
DTSTART;TZID=America/Los_Angeles:20220809T183000
DTEND;TZID=America/Los_Angeles:20220809T210000
LOCATION:19040 Lougheed Hwy\, Pitt Meadows\, British Columbia\, Canada
END:VEVENT
END:VCALENDAR