BEGIN:VCALENDAR
VERSION:2.0
PRODID:Spatie calendar-links
BEGIN:VEVENT
UID:0391920b147288e3a62a8ee108cea6c7
SUMMARY:Freedom Food Expo - August Edition
DTSTAMP;TZID=America/Los_Angeles:20220827T120000
DTSTART;TZID=America/Los_Angeles:20220827T120000
DTEND;TZID=America/Los_Angeles:20220827T170000
LOCATION:1312 Ketch Ct\, Coquitlam\, BC\, Canada
END:VEVENT
END:VCALENDAR