BEGIN:VCALENDAR
VERSION:2.0
PRODID:Spatie calendar-links
BEGIN:VEVENT
UID:4f7e201e35818e6d9de45af1cafba53d
SUMMARY:Quinte West - WORLDWIDE RALLY MARCH 20TH\, 2021
DTSTAMP;TZID=America/Toronto:20210320T120000
DTSTART;TZID=America/Toronto:20210320T120000
DTEND;TZID=America/Toronto:20210320T150000
LOCATION:7 Creswell Drive\, Quinte West\, ON\, Canada
END:VEVENT
END:VCALENDAR