BEGIN:VCALENDAR
VERSION:2.0
PRODID:Spatie calendar-links
BEGIN:VEVENT
UID:92322c23331a25d3dcb41c7e31a11f56
SUMMARY:Nuremberg Code's Verdict 75th\, 8 pm Sat\, Aug\, 20\, Vancouver Art Gallery\, North Plaza
DTSTAMP;TZID=America/Los_Angeles:20220820T200000
DTSTART;TZID=America/Los_Angeles:20220820T200000
DTEND;TZID=America/Los_Angeles:20220820T220000
LOCATION:750 Hornby Street\, Vancouver\, British Columbia\, Canada
END:VEVENT
END:VCALENDAR