BEGIN:VCALENDAR
VERSION:2.0
PRODID:Spatie calendar-links
BEGIN:VEVENT
UID:c865732b6932e069dfac972dfaf517fb
SUMMARY:Union of The People - Freedom Music Showcase (August Edition)
DTSTAMP;TZID=America/Los_Angeles:20220826T180000
DTSTART;TZID=America/Los_Angeles:20220826T180000
DTEND;TZID=America/Los_Angeles:20220826T220000
LOCATION:1312 Ketch Ct\, Coquitlam\, British Columbia\, Canada
END:VEVENT
END:VCALENDAR