BEGIN:VCALENDAR
VERSION:2.0
PRODID:Spatie calendar-links
BEGIN:VEVENT
UID:3e5fd908d4b7730207382e4871d0c9ee
SUMMARY:Informed Consent Citizens Inquiry 2.0 - Stand United Nationwide
DTSTAMP;TZID=America/Los_Angeles:20220924T130000
DTSTART;TZID=America/Los_Angeles:20220924T130000
DTEND;TZID=America/Los_Angeles:20220924T160000
LOCATION:3585 Graveley St\, Vancouver\, British Columbia\, Canada
END:VEVENT
END:VCALENDAR