BEGIN:VCALENDAR
VERSION:2.0
PRODID:Spatie calendar-links
BEGIN:VEVENT
UID:2c3f23b54ba8c44b33855a403e701de8
SUMMARY:Stand up to Medical Tyranny - College of Physicians and Surgeons 3.0!! 
DTSTAMP;TZID=America/Anchorage:20221007T130000
DTSTART;TZID=America/Anchorage:20221007T130000
DTEND;TZID=America/Anchorage:20221007T160000
LOCATION:669 Howe St\, Vancouver\, British Columbia\, Canada
END:VEVENT
END:VCALENDAR