BEGIN:VCALENDAR
VERSION:2.0
PRODID:Spatie calendar-links
BEGIN:VEVENT
UID:09861bcf297e2fdc34a01ab8029035fc
SUMMARY:Worldwide Freedom Rally - Victoria - September 17\, 2022 
DTSTAMP;TZID=America/Los_Angeles:20220917T130500
DTSTART;TZID=America/Los_Angeles:20220917T130500
DTEND;TZID=America/Los_Angeles:20220917T150000
LOCATION:5100 Patricia Bay Hwy\, Victoria\, British Columbia\, Canada
END:VEVENT
END:VCALENDAR