BEGIN:VCALENDAR
VERSION:2.0
PRODID:Spatie calendar-links
BEGIN:VEVENT
UID:15adb173035e79d49a35bd4d0de75c51
SUMMARY:STAND UNITED NATIONWIDE - VANCOUVER - THE MEDIA IS THE VIRUS
DTSTAMP;TZID=America/Los_Angeles:20221015T130000
DTSTART;TZID=America/Los_Angeles:20221015T130000
DTEND;TZID=America/Los_Angeles:20221015T160000
LOCATION:700 Hamilton St\, Vancouver\, British Columbia\, Canada
END:VEVENT
END:VCALENDAR