BEGIN:VCALENDAR
VERSION:2.0
PRODID:Spatie calendar-links
BEGIN:VEVENT
UID:df77e64e48010c320520feb09d96ae32
SUMMARY:Justice for the Vaccinated Bus Tour -Creston BC  7 pm
DTSTAMP;TZID=America/New_York:20221020T190000
DTSTART;TZID=America/New_York:20221020T190000
DTEND;TZID=America/New_York:20221020T230000
LOCATION:2408 2408 Cedar Street\, Creston\, BC\, Canada
END:VEVENT
END:VCALENDAR