BEGIN:VCALENDAR
VERSION:2.0
PRODID:Spatie calendar-links
BEGIN:VEVENT
UID:a30bbedd9fd36d22c1524bac9cfe6e24
SUMMARY:Cobourg - WORLDWIDE RALLY MARCH 20TH\, 2021
DTSTAMP;TZID=America/Toronto:20210320T120000
DTSTART;TZID=America/Toronto:20210320T120000
DTEND;TZID=America/Toronto:20210320T150000
LOCATION:55 King Street West\, Cobourg\, ON\, Canada
END:VEVENT
END:VCALENDAR