BEGIN:VCALENDAR
VERSION:2.0
PRODID:Spatie calendar-links
BEGIN:VEVENT
UID:51b90e0d9ec7aea9152eda3e0388597c
SUMMARY:STAND UNITED WORLD UNITY
DTSTAMP;TZID=America/Los_Angeles:20221023T130000
DTSTART;TZID=America/Los_Angeles:20221023T130000
DTEND;TZID=America/Los_Angeles:20221023T160000
LOCATION:1055 Canada Place\, Vancouver\, British Columbia\, Canada
END:VEVENT
END:VCALENDAR