BEGIN:VCALENDAR
VERSION:2.0
PRODID:Spatie calendar-links
BEGIN:VEVENT
UID:a754835baa9ff3553e1f845506f56109
SUMMARY:WORLD WIDE RALLY FOR FREEDOM 10.0
DTSTAMP;TZID=America/Los_Angeles:20221119T110000
DTSTART;TZID=America/Los_Angeles:20221119T110000
DTEND;TZID=America/Los_Angeles:20221119T140000
LOCATION:969 Robson Street\, Vancouver\, British Columbia\, Canada
END:VEVENT
END:VCALENDAR