BEGIN:VCALENDAR
VERSION:2.0
PRODID:Spatie calendar-links
BEGIN:VEVENT
UID:e7640a401e753a8e90de84a390fb065a
SUMMARY:Justice for the Vaccinated Bus Tour -Creston BC
DTSTAMP;TZID=America/Vancouver:20221020T000000
DTSTART;TZID=America/Vancouver:20221020T000000
DTEND;TZID=America/Vancouver:20221020T000000
LOCATION:2408 Cedar St. \, Creston\, BC\, Canada
END:VEVENT
END:VCALENDAR