BEGIN:VCALENDAR
VERSION:2.0
PRODID:Spatie calendar-links
BEGIN:VEVENT
UID:bd0db88655f30acf147883a4111d4fee
SUMMARY:Justice for the Vaccinated Bus Tour -Creston BC  7 pm
DTSTAMP;TZID=America/Vancouver:20221020T000000
DTSTART;TZID=America/Vancouver:20221020T000000
DTEND;TZID=America/Vancouver:20221020T000000
LOCATION:2408 2408 Cedar Street\, Creston\, BC\, Canada
END:VEVENT
END:VCALENDAR