BEGIN:VCALENDAR
VERSION:2.0
PRODID:Spatie calendar-links
BEGIN:VEVENT
UID:e2bf626f6f6ec0b5d885023b28c38fbb
SUMMARY:Justice for the Vaccinated Bus Tour - Calgary AB - 7 pm
DTSTAMP;TZID=America/Edmonton:20221026T190000
DTSTART;TZID=America/Edmonton:20221026T190000
DTEND;TZID=America/Edmonton:20221026T230000
LOCATION:3525 26 Street NE\, Calgary\, AB\, Canada
END:VEVENT
END:VCALENDAR