BEGIN:VCALENDAR
VERSION:2.0
PRODID:Spatie calendar-links
BEGIN:VEVENT
UID:4d3af9c4d249a75afdd767831e2c8172
SUMMARY:Salt Spring Island BC - WORLDWIDE RALLY MARCH 20TH\, 2021
DTSTAMP;TZID=America/Vancouver:20210320T120000
DTSTART;TZID=America/Vancouver:20210320T120000
DTEND;TZID=America/Vancouver:20210320T150000
LOCATION:Canada
END:VEVENT
END:VCALENDAR