BEGIN:VCALENDAR
VERSION:2.0
PRODID:Spatie calendar-links
BEGIN:VEVENT
UID:06a62e0f7d8b4786cd0a24a8d5e527cf
SUMMARY:Justice for the Vaccinated Bus Tour - Cranbrook BC  7 pm
DTSTAMP;TZID=America/Vancouver:20221021T190000
DTSTART;TZID=America/Vancouver:20221021T190000
DTEND;TZID=America/Vancouver:20221021T230000
LOCATION:803 Cranbrook Street North\, Cranbrook\, BC\, Canada
END:VEVENT
END:VCALENDAR