BEGIN:VCALENDAR
VERSION:2.0
PRODID:Spatie calendar-links
BEGIN:VEVENT
UID:e8e22ae760431c85f7fe997cda2d8931
SUMMARY:Justice for the Vaccinated Bus Tour - Dawson Creek BC  7 pm
DTSTAMP;TZID=America/Dawson_Creek:20221024T190000
DTSTART;TZID=America/Dawson_Creek:20221024T190000
DTEND;TZID=America/Dawson_Creek:20221024T230000
LOCATION:1901 Alaska Hwy\, Dawson Creek\, BC\, Canada
END:VEVENT
END:VCALENDAR