BEGIN:VCALENDAR
VERSION:2.0
PRODID:Spatie calendar-links
BEGIN:VEVENT
UID:f2474b8a1068faa6a0fba79367a8adb0
SUMMARY:Justice for the Vaccinated Bus Tour - Edmonton AB 7 pm
DTSTAMP;TZID=America/Edmonton:20221025T190000
DTSTART;TZID=America/Edmonton:20221025T190000
DTEND;TZID=America/Edmonton:20221025T230000
LOCATION:3530 91 Street NW\, Edmonton\, AB\, Canada
END:VEVENT
END:VCALENDAR