BEGIN:VCALENDAR
VERSION:2.0
PRODID:Spatie calendar-links
BEGIN:VEVENT
UID:294214d7444dbc7f52bb448814bb7cfe
SUMMARY:Justice for the Vaccinated Bus Tour - West Kelowna BC  6 pm
DTSTAMP;TZID=America/Vancouver:20221029T180000
DTSTART;TZID=America/Vancouver:20221029T180000
DTEND;TZID=America/Vancouver:20221029T230000
LOCATION:2466 Main Street\, Suite 3\, West Kelowna\, BC\, Canada
END:VEVENT
END:VCALENDAR