BEGIN:VCALENDAR
VERSION:2.0
PRODID:Spatie calendar-links
BEGIN:VEVENT
UID:6821aae1894b1d27e097d0a894f4d8d6
SUMMARY:Justice for the Vaccinated Bus Tour - Clairmont AB  7 pm
DTSTAMP;TZID=America/Edmonton:20221023T190000
DTSTART;TZID=America/Edmonton:20221023T190000
DTEND;TZID=America/Edmonton:20221023T230000
LOCATION:714003 Range Road 53\, Clairmont \, AB\, Canada
END:VEVENT
END:VCALENDAR