BEGIN:VCALENDAR
VERSION:2.0
PRODID:Spatie calendar-links
BEGIN:VEVENT
UID:4d01edf7d5cef92ecb9c8b80d1673ee8
SUMMARY:Justice for the Vaccinated Bus Tour - Penticton BC  7 pm
DTSTAMP;TZID=America/Vancouver:20221030T190000
DTSTART;TZID=America/Vancouver:20221030T190000
DTEND;TZID=America/Vancouver:20221030T230000
LOCATION:21 Lakeshore Drive West\, Penticton\, BC\, Canada
END:VEVENT
END:VCALENDAR