BEGIN:VCALENDAR
VERSION:2.0
PRODID:Spatie calendar-links
BEGIN:VEVENT
UID:8fc181dc16ba9d063bd6b159eeeef3c2
SUMMARY:Justice for the Vaccinated Bus Tour - Red Deer\, AB -  7 pm
DTSTAMP;TZID=America/Edmonton:20221022T190000
DTSTART;TZID=America/Edmonton:20221022T190000
DTEND;TZID=America/Edmonton:20221022T230000
LOCATION:3310 50 Avenue\, Red Deer\, AB\, Canada
END:VEVENT
END:VCALENDAR