BEGIN:VCALENDAR
VERSION:2.0
PRODID:Spatie calendar-links
BEGIN:VEVENT
UID:37df12efaa9aa91b9ee1405c76449af4
SUMMARY:Justice for the Vaccinated Bus Tour - Sorrento BC -  7 pm
DTSTAMP;TZID=America/Vancouver:20221027T190000
DTSTART;TZID=America/Vancouver:20221027T190000
DTEND;TZID=America/Vancouver:20221027T230000
LOCATION:1150 Passchendaele Road\, Sorrento\, BC\, Canada
END:VEVENT
END:VCALENDAR