BEGIN:VCALENDAR
VERSION:2.0
PRODID:Spatie calendar-links
BEGIN:VEVENT
UID:a175cef5ea9875155ad43af459a2e1e0
SUMMARY:Justice for the Vaccinated Bus Tour - Vernon  BC  7 pm
DTSTAMP;TZID=America/Vancouver:20221028T190000
DTSTART;TZID=America/Vancouver:20221028T190000
DTEND;TZID=America/Vancouver:20221028T230000
LOCATION:3914 32nd Street\, Vernon \, BC\, Canada
END:VEVENT
END:VCALENDAR