BEGIN:VCALENDAR
VERSION:2.0
PRODID:Spatie calendar-links
BEGIN:VEVENT
UID:35f63c10f825528d45bc077118cb1c64
SUMMARY:Nelson BC - - WORLDWIDE RALLY MARCH 20TH\, 2021
DTSTAMP;TZID=America/Vancouver:20210320T120000
DTSTART;TZID=America/Vancouver:20210320T120000
DTEND;TZID=America/Vancouver:20210320T150000
LOCATION:310 Ward Street\, Nelson\, BC\, Canada
END:VEVENT
END:VCALENDAR