BEGIN:VCALENDAR
VERSION:2.0
PRODID:Spatie calendar-links
BEGIN:VEVENT
UID:446999d60d49d130f6c0a7fcc14b38c3
SUMMARY:VCC 40th Anniversary Candlelight Vigil
DTSTAMP;TZID=America/Vancouver:20221022T190000
DTSTART;TZID=America/Vancouver:20221022T190000
DTEND;TZID=America/Vancouver:20221022T210000
LOCATION:Smithers\, BC\, Canada
END:VEVENT
END:VCALENDAR