BEGIN:VCALENDAR
VERSION:2.0
PRODID:Spatie calendar-links
BEGIN:VEVENT
UID:d3862e4fa95a6c119607c1ace25744ca
SUMMARY:VIGIL MARCH IN MEMORY OF THOSE WHO SACRIFICED FOR FREEDOM  - SILENT MARCH 2.67KM - STARTS AT 4 PM
DTSTAMP;TZID=America/Toronto:20221111T150000
DTSTART;TZID=America/Toronto:20221111T150000
DTEND;TZID=America/Toronto:20221111T180000
LOCATION:111 Wellesley St West Queens Park Legislature South Lawn\, Toronto\, ON\, Canada
END:VEVENT
END:VCALENDAR