BEGIN:VCALENDAR
VERSION:2.0
PRODID:Spatie calendar-links
BEGIN:VEVENT
UID:48e0f528dc114ddb07daf92c5b66ad25
SUMMARY:Toronto Re-Awakening Queen's Park Rally
DTSTAMP;TZID=America/Toronto:20221029T130000
DTSTART;TZID=America/Toronto:20221029T130000
DTEND;TZID=America/Toronto:20221029T160000
LOCATION:Toronto\, ON\, Canada
END:VEVENT
END:VCALENDAR