BEGIN:VCALENDAR
VERSION:2.0
PRODID:Spatie calendar-links
BEGIN:VEVENT
UID:4ef4fae4d840287956040d46cd3500d5
SUMMARY:PPC State of the Nation Fundraiser
DTSTAMP;TZID=America/Toronto:20221126T170000
DTSTART;TZID=America/Toronto:20221126T170000
DTEND;TZID=America/Toronto:20221126T225900
LOCATION:1280 Dundas St W\, Oakville\, ON\, Canada
END:VEVENT
END:VCALENDAR